BEGIN:VCALENDAR
VERSION:2.0
PRODID:-//ID North | Digital trust by Identity Security - ECPv6.15.20//NONSGML v1.0//EN
CALSCALE:GREGORIAN
METHOD:PUBLISH
X-ORIGINAL-URL:https://www.id-north.se
X-WR-CALDESC:Events for ID North | Digital trust by Identity Security
REFRESH-INTERVAL;VALUE=DURATION:PT1H
X-Robots-Tag:noindex
X-PUBLISHED-TTL:PT1H
BEGIN:VTIMEZONE
TZID:Europe/Stockholm
BEGIN:DAYLIGHT
TZOFFSETFROM:+0100
TZOFFSETTO:+0200
TZNAME:CEST
DTSTART:20230326T010000
END:DAYLIGHT
BEGIN:STANDARD
TZOFFSETFROM:+0200
TZOFFSETTO:+0100
TZNAME:CET
DTSTART:20231029T010000
END:STANDARD
BEGIN:DAYLIGHT
TZOFFSETFROM:+0100
TZOFFSETTO:+0200
TZNAME:CEST
DTSTART:20240331T010000
END:DAYLIGHT
BEGIN:STANDARD
TZOFFSETFROM:+0200
TZOFFSETTO:+0100
TZNAME:CET
DTSTART:20241027T010000
END:STANDARD
BEGIN:DAYLIGHT
TZOFFSETFROM:+0100
TZOFFSETTO:+0200
TZNAME:CEST
DTSTART:20250330T010000
END:DAYLIGHT
BEGIN:STANDARD
TZOFFSETFROM:+0200
TZOFFSETTO:+0100
TZNAME:CET
DTSTART:20251026T010000
END:STANDARD
BEGIN:DAYLIGHT
TZOFFSETFROM:+0100
TZOFFSETTO:+0200
TZNAME:CEST
DTSTART:20260329T010000
END:DAYLIGHT
BEGIN:STANDARD
TZOFFSETFROM:+0200
TZOFFSETTO:+0100
TZNAME:CET
DTSTART:20261025T010000
END:STANDARD
BEGIN:DAYLIGHT
TZOFFSETFROM:+0100
TZOFFSETTO:+0200
TZNAME:CEST
DTSTART:20270328T010000
END:DAYLIGHT
BEGIN:STANDARD
TZOFFSETFROM:+0200
TZOFFSETTO:+0100
TZNAME:CET
DTSTART:20271031T010000
END:STANDARD
END:VTIMEZONE
BEGIN:VEVENT
DTSTART;TZID=Europe/Stockholm:20241003T080000
DTEND;TZID=Europe/Stockholm:20241003T220000
DTSTAMP:20260423T010659
CREATED:20240517T071653Z
LAST-MODIFIED:20240517T072445Z
UID:3861-1727942400-1727992800@www.id-north.se
SUMMARY:Identity Day 2024 - Identitetssäkerhet
DESCRIPTION:Missa inte årets mest inspirerande evenemang inom Identitetssäkerhet\nIdentity Day är eventet där branschens främsta experter samlas för att dela kunskap\, insikter och verktyg för att skydda din organisation mot cyberattacker och dataintrång. \nLyssna till inspirerande föreläsningar och ta del av de senaste trenderna\, kommande utmaningar och lär dig vilka verktyg och strategier som är mest effektiva för att skydda din organisation. \nDyk in i spännande breakout sessions för att fördjupa dig inom områden som IAM\, IGA\, PAM\, AM och flera andra viktiga delar inom Identity Security. \nUtöver detta får du chans att nätverka med branschfolk och njuta av god mat och dryck. \nIdentity Day är helt kostnadsfritt. Eventet hålls på svenska med vissa presentationer på engelska. \nBoka din plats här!\n::::::::::
URL:https://www.id-north.se/event/identity-day-2024-identitetssakerhet/
LOCATION:7A Posthuset\, Vasagatan 28\, Stockholm\, Stockholm\, 11120\, Sweden
ATTACH;FMTTYPE=image/png:https://www.id-north.se/nya/wp-content/uploads/2024/05/SoMe-mall-ID-North-20.png
ORGANIZER;CN="ID North + Arctic Group":MAILTO:hello@identityday.se
END:VEVENT
BEGIN:VEVENT
DTSTART;TZID=Europe/Stockholm:20251009T080000
DTEND;TZID=Europe/Stockholm:20251009T220000
DTSTAMP:20260423T010659
CREATED:20250305T083926Z
LAST-MODIFIED:20250305T084509Z
UID:5096-1759996800-1760047200@www.id-north.se
SUMMARY:Identity Day 2025
DESCRIPTION:Välkommen till Identity Day\, där vi för fjärde året i rad samlar några av branschens främsta experter inom identitetssäkerhet. Förra året deltog över 400 personer\, och i år siktar vi på ännu fler! \nUnder eventet får du ta del av inspirerande föreläsningar om de senaste trenderna och utmaningarna inom identitetssäkerhet. Lär dig vilka strategier och verktyg som effektivt skyddar din organisation mot cyberhot och dataintrång. \nDyk djupare i våra breakout-sessioner\, där experter delar insikter inom IAM\, IGA\, PAM\, AM och mycket mer. \nUtöver kunskap och inspiration är Identity Day ett perfekt tillfälle att nätverka med branschkollegor – och självklart bjuder vi på god mat och dryck. \nEventet är helt kostnadsfritt! Det hålls på svenska\, med vissa presentationer på engelska. \n🚀 Säkra din plats och bli en del av årets mest inspirerande event inom identitetssäkerhet! \n \nBoka din plats via Identity Days hemsida här
URL:https://www.id-north.se/event/identity-day-2025/
LOCATION:7A Posthuset\, Vasagatan 28\, Stockholm\, Stockholm\, 11120\, Sweden
ATTACH;FMTTYPE=image/png:https://www.id-north.se/nya/wp-content/uploads/2025/03/Bakgrundsbild-Identity-Day-network.png
ORGANIZER;CN="ID North + Arctic Group":MAILTO:hello@identityday.se
END:VEVENT
BEGIN:VEVENT
DTSTART;TZID=Europe/Stockholm:20261008T080000
DTEND;TZID=Europe/Stockholm:20261008T220000
DTSTAMP:20260423T010659
CREATED:20260413T071509Z
LAST-MODIFIED:20260413T071947Z
UID:5688-1791446400-1791496800@www.id-north.se
SUMMARY:Identity Day 2026 - Stockholm
DESCRIPTION:Välkommen till Identity Day 2026 och fira 5 år med oss.\nFör femte året i rad samlas Identity Security-communityn för en heldag fylld av insikter\, erfarenhetsutbyte och konkreta perspektiv på hur organisationer stärker kontrollen över identiteter\, åtkomst och behörigheter. Identity Day är mötesplatsen där branschkollegor ses\, verkliga case delas och samtalen fortsätter långt efter sista sessionen. \nI år firar vi 5 år och gör något extra av Identity Day. Posthuset är en viktig del av Identity Day\, men i år tänkte vi\, varför inte space:a till det lite extra? 2026 tar vi eventet till SPACE \, en helt nyrenoverad lokal i hjärtat av Stockholm\, med större scen\, bättre flöde och en ännu starkare upplevelse. \nUnder dagen väntar inspirerande keynotes\, panelsamtal och presentationer med fokus på de mest aktuella frågorna inom Identity Security – från strategiska perspektiv till konkreta erfarenheter från organisationer mitt i förändring. I breakout sessions fördjupar vi oss i områden som IGA\, PAM\, AM och andra centrala delar av en modern identitets- och åtkomststrategi. \nEventet är kostnadsfritt och vi bjuder på god mat och dryck under hela dagen och kvällen. Efter programmet fortsätter vi med mingel och firande fram till kl. 22. \nIdentity Day är också en möjlighet att nätverka\, knyta nya kontakter och dela erfarenheter med andra som arbetar med identitetssäkerhet. \nEventet hålls på svenska\, med utvalda presentationer på engelska. \nBoka din plats och var med när Identity Day samlar communityn för femte året i rad. \nBoka din plats via Identity Days hemsida här
URL:https://www.id-north.se/event/identity-day-2026-stockholm/
LOCATION:Space\, Sergelgatan 2\, Stockholm\, 11157\, Sweden
ATTACH;FMTTYPE=image/jpeg:https://www.id-north.se/nya/wp-content/uploads/2026/04/Bild-pa-ID-North-about-us-generel-och-barcelona-169-2.jpg
END:VEVENT
BEGIN:VEVENT
DTSTART;TZID=Europe/Stockholm:20261029T083000
DTEND;TZID=Europe/Stockholm:20261029T210000
DTSTAMP:20260423T010659
CREATED:20260413T072853Z
LAST-MODIFIED:20260413T073122Z
UID:5694-1793262600-1793307600@www.id-north.se
SUMMARY:Identity Day 2026 - Helsingfors
DESCRIPTION:Välkommen till Identity Day 2026.\nFör fjärde året i rad samlas Identity Security-communityn för en heldag fylld av insikter\, erfarenhetsutbyte och konkreta perspektiv på hur organisationer stärker kontrollen över identiteter\, åtkomst och behörigheter. Identity Day är mötesplatsen där branschkollegor ses\, verkliga case delas och samtalen fortsätter långt efter sista sessionen. \nI år flyttar Identity Day till ny lokal i Helsingfors\, och vi kommer att välkomna dig på Restaurant Pörssi. \nUnder dagen väntar inspirerande keynotes\, panelsamtal och presentationer med fokus på de mest aktuella frågorna inom Identity Security – från strategiska perspektiv till konkreta erfarenheter från organisationer mitt i förändring. \nEventet är kostnadsfritt och vi bjuder på god mat och dryck under hela dagen och kvällen. Efter programmet fortsätter vi med middag och mingel fram till kl. 21. \nIdentity Day är också en möjlighet att nätverka\, knyta nya kontakter och dela erfarenheter med andra som arbetar med identitetssäkerhet. \nEventet hålls på finska\, med utvalda presentationer på engelska. \nBoka din plats och var med när Identity Day samlar communityn. \nBoka din plats via Identity Days hemsida här
URL:https://www.id-north.se/event/identity-day-2026-helsingfors/
LOCATION:Restaurant Pörssi\, Fabianinkatu 14\, Helsingfors\, Finland\, 00100\, Finland
ATTACH;FMTTYPE=image/jpeg:https://www.id-north.se/nya/wp-content/uploads/2026/04/Bild-pa-ID-North-about-us-generel-och-barcelona-169-2.jpg
END:VEVENT
END:VCALENDAR